BEGIN:VCALENDAR
VERSION:2.0
PRODID:-//United German Hungarians - ECPv6.15.20//NONSGML v1.0//EN
CALSCALE:GREGORIAN
METHOD:PUBLISH
X-ORIGINAL-URL:https://ughclub.us
X-WR-CALDESC:Events for United German Hungarians
REFRESH-INTERVAL;VALUE=DURATION:PT1H
X-Robots-Tag:noindex
X-PUBLISHED-TTL:PT1H
BEGIN:VTIMEZONE
TZID:America/New_York
BEGIN:DAYLIGHT
TZOFFSETFROM:-0500
TZOFFSETTO:-0400
TZNAME:EDT
DTSTART:20250309T070000
END:DAYLIGHT
BEGIN:STANDARD
TZOFFSETFROM:-0400
TZOFFSETTO:-0500
TZNAME:EST
DTSTART:20251102T060000
END:STANDARD
BEGIN:DAYLIGHT
TZOFFSETFROM:-0500
TZOFFSETTO:-0400
TZNAME:EDT
DTSTART:20260308T070000
END:DAYLIGHT
BEGIN:STANDARD
TZOFFSETFROM:-0400
TZOFFSETTO:-0500
TZNAME:EST
DTSTART:20261101T060000
END:STANDARD
BEGIN:DAYLIGHT
TZOFFSETFROM:-0500
TZOFFSETTO:-0400
TZNAME:EDT
DTSTART:20270314T070000
END:DAYLIGHT
BEGIN:STANDARD
TZOFFSETFROM:-0400
TZOFFSETTO:-0500
TZNAME:EST
DTSTART:20271107T060000
END:STANDARD
END:VTIMEZONE
BEGIN:VEVENT
DTSTART;TZID=America/New_York:20260502T110000
DTEND;TZID=America/New_York:20260502T200000
DTSTAMP:20260420T103708
CREATED:20260101T060028Z
LAST-MODIFIED:20260410T124115Z
UID:13933-1777719600-1777752000@ughclub.us
SUMMARY:Dancing @ Brauhaus Schmitz Maifest [2026]
DESCRIPTION:Send us to Germany! Join our nationally ranked 2nd Place dance group for a fundraiser on April 11 at the Fireside!
URL:https://ughclub.us/event/dancing-brauhaus-schmitz-maifest-2026/
LOCATION:Brauhaus Schmitz\, 718 South Street\, Philadelphia\, PA\, 19147\, United States
CATEGORIES:Dance Group Events,Public Performance
ATTACH;FMTTYPE=image/png:https://ughclub.us/wp-content/uploads/2026/01/maifest.png
END:VEVENT
BEGIN:VEVENT
DTSTART;TZID=America/New_York:20260606T150000
DTEND;TZID=America/New_York:20260606T180000
DTSTAMP:20260420T103708
CREATED:20260101T060022Z
LAST-MODIFIED:20260317T163052Z
UID:13903-1780758000-1780768800@ughclub.us
SUMMARY:Dancing @ Phoenix Summerfest 100th Anniversary
DESCRIPTION:Send us to Germany! Join our nationally ranked 2nd Place dance group for a fundraiser on April 11 at the Fireside!
URL:https://ughclub.us/event/dancing-phoenix-summerfest-100th-anniversary/
LOCATION:Phoenix Sport Club\, 301 W Bristol Rd.\, Trevose\, PA\, 19053\, United States
CATEGORIES:Community Event,Dance Group Events,Public Performance
ATTACH;FMTTYPE=image/avif:https://ughclub.us/wp-content/uploads/2026/01/Phoenix100th.avif
END:VEVENT
BEGIN:VEVENT
DTSTART;TZID=America/New_York:20260718T000000
DTEND;TZID=America/New_York:20260718T235959
DTSTAMP:20260420T103708
CREATED:20260101T060017Z
LAST-MODIFIED:20260410T125039Z
UID:13969-1784332800-1784419199@ughclub.us
SUMMARY:Dancing @ Bayerischer Löwe [2026]
DESCRIPTION:Send us to Germany! Join our nationally ranked 2nd Place dance group for a fundraiser on April 11 at the Fireside!
URL:https://ughclub.us/event/bayerischer-lowe/
LOCATION:PA
CATEGORIES:Dance Group Events,Excursions
ATTACH;FMTTYPE=image/jpeg:https://ughclub.us/wp-content/uploads/2026/01/DSC06114.jpg
END:VEVENT
BEGIN:VEVENT
DTSTART;TZID=America/New_York:20260925T000000
DTEND;TZID=America/New_York:20260925T235959
DTSTAMP:20260420T103708
CREATED:20260101T060008Z
LAST-MODIFIED:20260317T163105Z
UID:13912-1790294400-1790380799@ughclub.us
SUMMARY:Dancing @ Heritage Creek
DESCRIPTION:Send us to Germany! Join our nationally ranked 2nd Place dance group for a fundraiser on April 11 at the Fireside!
URL:https://ughclub.us/event/dancing-heritage-creek/
LOCATION:Heritage Creek\, 1365 Tulip Rd\, Warminster\, PA\, 18974\, United States
CATEGORIES:Dance Group Events,Public Performance
ATTACH;FMTTYPE=image/webp:https://ughclub.us/wp-content/uploads/2026/01/Heritage-Creek.webp
END:VEVENT
BEGIN:VEVENT
DTSTART;TZID=America/New_York:20261002T180000
DTEND;TZID=America/New_York:20261002T210000
DTSTAMP:20260420T103708
CREATED:20260101T060055Z
LAST-MODIFIED:20260317T163112Z
UID:13919-1790964000-1790974800@ughclub.us
SUMMARY:Dancing @ Lansdale Freight House [2026]
DESCRIPTION:Send us to Germany! Join our nationally ranked 2nd Place dance group for a fundraiser on April 11 at the Fireside!
URL:https://ughclub.us/event/dancing-lansdale-freight-house-2026/
LOCATION:Historic Lansdale Freight House\, 111 South Broad Street\, Lansdale\, PA\, 19446\, United States
CATEGORIES:Dance Group Events,Public Performance
ATTACH;FMTTYPE=image/jpeg:https://ughclub.us/wp-content/uploads/2026/01/img_3506.jpg
END:VEVENT
BEGIN:VEVENT
DTSTART;TZID=America/New_York:20261024T000000
DTEND;TZID=America/New_York:20261024T235959
DTSTAMP:20260420T103708
CREATED:20260101T060015Z
LAST-MODIFIED:20260317T163118Z
UID:13922-1792800000-1792886399@ughclub.us
SUMMARY:Dancing @ Trenton Donauschwaben's 70th Anniversary
DESCRIPTION:Send us to Germany! Join our nationally ranked 2nd Place dance group for a fundraiser on April 11 at the Fireside!
URL:https://ughclub.us/event/dancing-trenton-donauschwabens-70th-anniversary/
LOCATION:German-American Society of Trenton\, 215 Uncle Pete's Road\, Trenton\, NJ\, 08691\, United States
CATEGORIES:Community Event,Public Performance
ATTACH;FMTTYPE=image/jpeg:https://ughclub.us/wp-content/uploads/2026/01/img_3507.jpg
END:VEVENT
BEGIN:VEVENT
DTSTART;TZID=America/New_York:20261220T150000
DTEND;TZID=America/New_York:20261220T190000
DTSTAMP:20260420T103708
CREATED:20260101T060000Z
LAST-MODIFIED:20260317T163133Z
UID:14103-1797778800-1797793200@ughclub.us
SUMMARY:Club Christmas Party [2026]
DESCRIPTION:Send us to Germany! Join our nationally ranked 2nd Place dance group for a fundraiser on April 11 at the Fireside!
URL:https://ughclub.us/event/club-christmas-party-2026/
LOCATION:Vereinigung Erzgebirge\, 130 Davisville Road\, Warminster\, PA\, 19805\, United States
CATEGORIES:Dance Group Events,Entertainment Event
END:VEVENT
END:VCALENDAR