BEGIN:VCALENDAR
VERSION:2.0
PRODID:-//United German Hungarians - ECPv6.15.20//NONSGML v1.0//EN
CALSCALE:GREGORIAN
METHOD:PUBLISH
X-ORIGINAL-URL:https://ughclub.us
X-WR-CALDESC:Events for United German Hungarians
REFRESH-INTERVAL;VALUE=DURATION:PT1H
X-Robots-Tag:noindex
X-PUBLISHED-TTL:PT1H
BEGIN:VTIMEZONE
TZID:America/New_York
BEGIN:DAYLIGHT
TZOFFSETFROM:-0500
TZOFFSETTO:-0400
TZNAME:EDT
DTSTART:20250309T070000
END:DAYLIGHT
BEGIN:STANDARD
TZOFFSETFROM:-0400
TZOFFSETTO:-0500
TZNAME:EST
DTSTART:20251102T060000
END:STANDARD
BEGIN:DAYLIGHT
TZOFFSETFROM:-0500
TZOFFSETTO:-0400
TZNAME:EDT
DTSTART:20260308T070000
END:DAYLIGHT
BEGIN:STANDARD
TZOFFSETFROM:-0400
TZOFFSETTO:-0500
TZNAME:EST
DTSTART:20261101T060000
END:STANDARD
BEGIN:DAYLIGHT
TZOFFSETFROM:-0500
TZOFFSETTO:-0400
TZNAME:EDT
DTSTART:20270314T070000
END:DAYLIGHT
BEGIN:STANDARD
TZOFFSETFROM:-0400
TZOFFSETTO:-0500
TZNAME:EST
DTSTART:20271107T060000
END:STANDARD
END:VTIMEZONE
BEGIN:VEVENT
DTSTART;TZID=America/New_York:20260502T110000
DTEND;TZID=America/New_York:20260502T200000
DTSTAMP:20260424T083226
CREATED:20260101T060028Z
LAST-MODIFIED:20260423T151959Z
UID:13933-1777719600-1777752000@ughclub.us
SUMMARY:Dancing @ Brauhaus Schmitz Maifest [2026]
DESCRIPTION:Send us to Germany! Join our nationally ranked 2nd Place dance group for a fundraiser on April 11 at the Fireside!
URL:https://ughclub.us/event/dancing-brauhaus-schmitz-maifest-2026/
LOCATION:Brauhaus Schmitz\, 718 South Street\, Philadelphia\, PA\, 19147\, United States
CATEGORIES:Dance Group Events,Public Performance
ATTACH;FMTTYPE=image/png:https://ughclub.us/wp-content/uploads/2026/01/maifest.png
END:VEVENT
BEGIN:VEVENT
DTSTART;TZID=America/New_York:20261002T180000
DTEND;TZID=America/New_York:20261002T210000
DTSTAMP:20260424T083226
CREATED:20260101T060055Z
LAST-MODIFIED:20260423T152848Z
UID:13919-1790964000-1790974800@ughclub.us
SUMMARY:Dancing @ Lansdale Freight House [2026]
DESCRIPTION:Send us to Germany! Join our nationally ranked 2nd Place dance group for a fundraiser on April 11 at the Fireside!
URL:https://ughclub.us/event/dancing-lansdale-freight-house-2026/
LOCATION:Historic Lansdale Freight House\, 111 South Broad Street\, Lansdale\, PA\, 19446\, United States
CATEGORIES:Dance Group Events,Public Performance
ATTACH;FMTTYPE=image/jpeg:https://ughclub.us/wp-content/uploads/2026/01/img_3506.jpg
END:VEVENT
END:VCALENDAR