BEGIN:VCALENDAR
VERSION:2.0
PRODID:-//United German Hungarians - ECPv6.15.20//NONSGML v1.0//EN
CALSCALE:GREGORIAN
METHOD:PUBLISH
X-ORIGINAL-URL:https://ughclub.us
X-WR-CALDESC:Events for United German Hungarians
REFRESH-INTERVAL;VALUE=DURATION:PT1H
X-Robots-Tag:noindex
X-PUBLISHED-TTL:PT1H
BEGIN:VTIMEZONE
TZID:America/New_York
BEGIN:DAYLIGHT
TZOFFSETFROM:-0500
TZOFFSETTO:-0400
TZNAME:EDT
DTSTART:20250309T070000
END:DAYLIGHT
BEGIN:STANDARD
TZOFFSETFROM:-0400
TZOFFSETTO:-0500
TZNAME:EST
DTSTART:20251102T060000
END:STANDARD
BEGIN:DAYLIGHT
TZOFFSETFROM:-0500
TZOFFSETTO:-0400
TZNAME:EDT
DTSTART:20260308T070000
END:DAYLIGHT
BEGIN:STANDARD
TZOFFSETFROM:-0400
TZOFFSETTO:-0500
TZNAME:EST
DTSTART:20261101T060000
END:STANDARD
BEGIN:DAYLIGHT
TZOFFSETFROM:-0500
TZOFFSETTO:-0400
TZNAME:EDT
DTSTART:20270314T070000
END:DAYLIGHT
BEGIN:STANDARD
TZOFFSETFROM:-0400
TZOFFSETTO:-0500
TZNAME:EST
DTSTART:20271107T060000
END:STANDARD
END:VTIMEZONE
BEGIN:VEVENT
DTSTART;TZID=America/New_York:20260314T090000
DTEND;TZID=America/New_York:20260314T090000
DTSTAMP:20260424T114319
CREATED:20260101T060000Z
LAST-MODIFIED:20260317T162940Z
UID:13063-1773478800-1773478800@ughclub.us
SUMMARY:Mid-Atlantic Jugend Einzel 2026 [SOLD OUT]
DESCRIPTION:Send us to Germany! Join our nationally ranked 2nd Place dance group for a fundraiser on April 11 at the Fireside!
URL:https://ughclub.us/event/mid-atlantic-einzel-2026/
LOCATION:Vereinigung Erzgebirge\, 130 Davisville Road\, Warminster\, PA\, 19805\, United States
CATEGORIES:Community Event,Dance Group Events
ATTACH;FMTTYPE=image/png:https://ughclub.us/wp-content/uploads/2026/02/Einzel-2026-Cover.png
ORGANIZER;CN="United German-Hungarians of Philadelphia & Vicinity":MAILTO:ughclub@gmail.com
END:VEVENT
BEGIN:VEVENT
DTSTART;TZID=America/New_York:20260314T183000
DTEND;TZID=America/New_York:20260314T220000
DTSTAMP:20260424T114319
CREATED:20260101T060002Z
LAST-MODIFIED:20260317T163001Z
UID:13142-1773513000-1773525600@ughclub.us
SUMMARY:HK Night at a New Location 2026 [SOLD OUT]
DESCRIPTION:Send us to Germany! Join our nationally ranked 2nd Place dance group for a fundraiser on April 11 at the Fireside!
URL:https://ughclub.us/event/hk-night/
LOCATION:Vereinigung Erzgebirge\, 130 Davisville Road\, Warminster\, PA\, 19805\, United States
CATEGORIES:Dance Group Events,Entertainment Event,Fundraiser
ATTACH;FMTTYPE=image/png:https://ughclub.us/wp-content/uploads/2026/01/GH-design-website-header-size-1-1.png
ORGANIZER;CN="United German-Hungarians of Philadelphia & Vicinity":MAILTO:ughclub@gmail.com
END:VEVENT
BEGIN:VEVENT
DTSTART;TZID=America/New_York:20260317T190000
DTEND;TZID=America/New_York:20260317T190000
DTSTAMP:20260424T114319
CREATED:20260101T060000Z
LAST-MODIFIED:20260318T141219Z
UID:14230-1773774000-1773774000@ughclub.us
SUMMARY:AGM - Annual General Meeting [2026]
DESCRIPTION:Send us to Germany! Join our nationally ranked 2nd Place dance group for a fundraiser on April 11 at the Fireside!
URL:https://ughclub.us/event/agm-annual-general-meeting-2026/
LOCATION:Phoenix Sport Club\, 301 W Bristol Rd.\, Trevose\, PA\, 19053\, United States
CATEGORIES:Meetings
ATTACH;FMTTYPE=image/png:https://ughclub.us/wp-content/uploads/2026/02/AGM-2026-COVER.png
END:VEVENT
END:VCALENDAR